Package: PhenStat Version: 2.45.1 Command: /home/biocbuild/bbs-3.22-bioc/R/bin/R CMD build --keep-empty-dirs --no-resave-data --md5 PhenStat StartedAt: 2025-10-24 19:26:33 -0400 (Fri, 24 Oct 2025) EndedAt: 2025-10-24 19:26:34 -0400 (Fri, 24 Oct 2025) EllapsedTime: 1.0 seconds RetCode: 1 Status: ERROR PackageFile: None PackageFileSize: NA