Package: PharmacoGx Version: 3.13.2 Command: /home/biocbuild/bbs-3.22-bioc/R/bin/R CMD INSTALL PharmacoGx StartedAt: 2025-10-24 15:34:45 -0400 (Fri, 24 Oct 2025) EndedAt: 2025-10-24 15:35:27 -0400 (Fri, 24 Oct 2025) EllapsedTime: 42.5 seconds RetCode: 0 Status: OK