Package: PhIPData Version: 1.17.0 Command: /home/biocbuild/bbs-3.22-bioc/R/bin/R CMD INSTALL PhIPData StartedAt: 2025-10-24 16:01:13 -0400 (Fri, 24 Oct 2025) EndedAt: 2025-10-24 16:01:42 -0400 (Fri, 24 Oct 2025) EllapsedTime: 28.9 seconds RetCode: 0 Status: OK