Package: PhIPData Version: 1.18.0 Command: /Library/Frameworks/R.framework/Resources/bin/R CMD build --keep-empty-dirs --no-resave-data PhIPData StartedAt: 2025-11-02 18:17:33 -0500 (Sun, 02 Nov 2025) EndedAt: 2025-11-02 18:18:26 -0500 (Sun, 02 Nov 2025) EllapsedTime: 52.7 seconds RetCode: 0 Status: OK PackageFile: PhIPData_1.18.0.tar.gz PackageFileSize: 820.6 KiB