Package: PhIPData Version: 1.18.0 Command: rm -rf PhIPData.buildbin-libdir && mkdir PhIPData.buildbin-libdir && /Users/biocbuild/BBS/utils/build-universal.sh PhIPData_1.18.0.tar.gz /Library/Frameworks/R.framework/Resources/bin/R PhIPData.buildbin-libdir StartedAt: 2025-11-01 01:49:26 -0400 (Sat, 01 Nov 2025) EndedAt: 2025-11-01 01:50:08 -0400 (Sat, 01 Nov 2025) EllapsedTime: 41.5 seconds RetCode: 0 Status: OK PackageFile: PhIPData_1.18.0.tgz PackageFileSize: 1.201 MiB