Package: PhIPData Version: 1.17.0 Command: /Library/Frameworks/R.framework/Resources/bin/R CMD INSTALL PhIPData StartedAt: 2025-10-24 15:31:07 -0400 (Fri, 24 Oct 2025) EndedAt: 2025-10-24 15:31:18 -0400 (Fri, 24 Oct 2025) EllapsedTime: 11.0 seconds RetCode: 0 Status: OK