Package: PhIPData Version: 1.17.0 Command: rm -rf PhIPData.buildbin-libdir && mkdir PhIPData.buildbin-libdir && /Users/biocbuild/BBS/utils/build-universal.sh PhIPData_1.17.0.tar.gz /Library/Frameworks/R.framework/Resources/bin/R PhIPData.buildbin-libdir StartedAt: 2025-10-24 23:14:02 -0400 (Fri, 24 Oct 2025) EndedAt: 2025-10-24 23:14:14 -0400 (Fri, 24 Oct 2025) EllapsedTime: 12.3 seconds RetCode: 0 Status: OK PackageFile: PhIPData_1.17.0.tgz PackageFileSize: 1.203 MiB