Package: PepSetTest Version: 1.3.0 Command: /home/biocbuild/bbs-3.22-bioc/R/bin/R CMD INSTALL PepSetTest StartedAt: 2025-10-24 15:35:44 -0400 (Fri, 24 Oct 2025) EndedAt: 2025-10-24 15:35:46 -0400 (Fri, 24 Oct 2025) EllapsedTime: 2.0 seconds RetCode: 0 Status: OK