Package: PepSetTest Version: 1.3.0 Command: /home/biocbuild/bbs-3.22-bioc/R/bin/R CMD check --install=check:PepSetTest.install-out.txt --library=/home/biocbuild/bbs-3.22-bioc/R/site-library --timings PepSetTest_1.3.0.tar.gz StartedAt: 2025-10-25 02:41:24 -0400 (Sat, 25 Oct 2025) EndedAt: 2025-10-25 02:42:22 -0400 (Sat, 25 Oct 2025) EllapsedTime: 58.1 seconds RetCode: 0 Status: OK CheckDir: PepSetTest.Rcheck Warnings: 0