Package: PepSetTest Version: 1.3.0 Command: /home/biocbuild/bbs-3.22-bioc/R/bin/R CMD build --keep-empty-dirs --no-resave-data --md5 PepSetTest StartedAt: 2025-10-24 19:25:28 -0400 (Fri, 24 Oct 2025) EndedAt: 2025-10-24 19:25:48 -0400 (Fri, 24 Oct 2025) EllapsedTime: 20.0 seconds RetCode: 0 Status: OK PackageFile: PepSetTest_1.3.0.tar.gz PackageFileSize: 250 KiB