Package: PepSetTest Version: 1.3.0 Command: /Library/Frameworks/R.framework/Resources/bin/R CMD INSTALL PepSetTest StartedAt: 2025-10-24 15:18:21 -0400 (Fri, 24 Oct 2025) EndedAt: 2025-10-24 15:18:22 -0400 (Fri, 24 Oct 2025) EllapsedTime: 1.2 seconds RetCode: 0 Status: OK