Package: PepSetTest Version: 1.3.0 Command: /Library/Frameworks/R.framework/Resources/bin/R CMD build --keep-empty-dirs --no-resave-data PepSetTest StartedAt: 2025-10-24 17:20:48 -0400 (Fri, 24 Oct 2025) EndedAt: 2025-10-24 17:20:56 -0400 (Fri, 24 Oct 2025) EllapsedTime: 8.1 seconds RetCode: 0 Status: OK PackageFile: PepSetTest_1.3.0.tar.gz PackageFileSize: 248.5 KiB