Package: Pedixplorer Version: 1.6.0 Command: /home/biocbuild/bbs-3.22-bioc/R/bin/R CMD INSTALL Pedixplorer StartedAt: 2025-10-31 15:21:08 -0400 (Fri, 31 Oct 2025) EndedAt: 2025-10-31 15:21:27 -0400 (Fri, 31 Oct 2025) EllapsedTime: 19.2 seconds RetCode: 0 Status: OK