Package: PeacoQC Version: 1.19.0 Command: /home/biocbuild/bbs-3.22-bioc/R/bin/R CMD INSTALL PeacoQC StartedAt: 2025-10-24 15:35:35 -0400 (Fri, 24 Oct 2025) EndedAt: 2025-10-24 15:35:50 -0400 (Fri, 24 Oct 2025) EllapsedTime: 15.4 seconds RetCode: 0 Status: OK