Package: PathoStat Version: 1.35.0 Command: /Library/Frameworks/R.framework/Resources/bin/R CMD INSTALL PathoStat StartedAt: 2025-10-24 15:29:05 -0400 (Fri, 24 Oct 2025) EndedAt: 2025-10-24 15:29:53 -0400 (Fri, 24 Oct 2025) EllapsedTime: 47.7 seconds RetCode: 0 Status: OK