Package: PathoStat Version: 1.35.0 Command: rm -rf PathoStat.buildbin-libdir && mkdir PathoStat.buildbin-libdir && /Users/biocbuild/BBS/utils/build-universal.sh PathoStat_1.35.0.tar.gz /Library/Frameworks/R.framework/Resources/bin/R PathoStat.buildbin-libdir StartedAt: 2025-10-24 23:13:41 -0400 (Fri, 24 Oct 2025) EndedAt: 2025-10-24 23:13:57 -0400 (Fri, 24 Oct 2025) EllapsedTime: 15.4 seconds RetCode: 0 Status: OK PackageFile: PathoStat_1.35.0.tgz PackageFileSize: 1.049 MiB