Package: PathNet Version: 1.49.0 Command: /home/biocbuild/bbs-3.22-bioc/R/bin/R CMD build --keep-empty-dirs --no-resave-data --md5 PathNet StartedAt: 2025-10-24 19:22:47 -0400 (Fri, 24 Oct 2025) EndedAt: 2025-10-24 19:23:44 -0400 (Fri, 24 Oct 2025) EllapsedTime: 57.0 seconds RetCode: 0 Status: OK PackageFile: PathNet_1.49.0.tar.gz PackageFileSize: 824.7 KiB