Package: PathNet Version: 1.49.0 Command: rm -rf PathNet.buildbin-libdir && mkdir PathNet.buildbin-libdir && /Users/biocbuild/BBS/utils/build-universal.sh PathNet_1.49.0.tar.gz /Library/Frameworks/R.framework/Resources/bin/R PathNet.buildbin-libdir StartedAt: 2025-10-25 01:55:08 -0400 (Sat, 25 Oct 2025) EndedAt: 2025-10-25 01:55:14 -0400 (Sat, 25 Oct 2025) EllapsedTime: 5.9 seconds RetCode: 0 Status: OK PackageFile: PathNet_1.49.0.tgz PackageFileSize: 328.4 KiB