Package: Path2PPI Version: 1.40.0 Command: /home/biocbuild/bbs-3.22-bioc/R/bin/R CMD check --install=check:Path2PPI.install-out.txt --library=/home/biocbuild/bbs-3.22-bioc/R/site-library --timings Path2PPI_1.40.0.tar.gz StartedAt: 2025-11-01 02:39:42 -0400 (Sat, 01 Nov 2025) EndedAt: 2025-11-01 02:40:32 -0400 (Sat, 01 Nov 2025) EllapsedTime: 50.0 seconds RetCode: 0 Status: OK CheckDir: Path2PPI.Rcheck Warnings: 0