Package: Path2PPI Version: 1.39.0 Command: /Library/Frameworks/R.framework/Resources/bin/R CMD build --keep-empty-dirs --no-resave-data Path2PPI StartedAt: 2025-10-24 18:11:43 -0400 (Fri, 24 Oct 2025) EndedAt: 2025-10-24 18:12:09 -0400 (Fri, 24 Oct 2025) EllapsedTime: 26.2 seconds RetCode: 0 Status: OK PackageFile: Path2PPI_1.39.0.tar.gz PackageFileSize: 1.475 MiB