Package: Path2PPI Version: 1.39.0 Command: /Library/Frameworks/R.framework/Resources/bin/R CMD INSTALL Path2PPI StartedAt: 2025-10-24 15:06:32 -0400 (Fri, 24 Oct 2025) EndedAt: 2025-10-24 15:06:47 -0400 (Fri, 24 Oct 2025) EllapsedTime: 15.0 seconds RetCode: 0 Status: OK