Package: PanomiR Version: 1.14.0 Command: /home/biocbuild/bbs-3.22-bioc/R/bin/R CMD INSTALL PanomiR StartedAt: 2025-10-31 15:59:08 -0400 (Fri, 31 Oct 2025) EndedAt: 2025-10-31 15:59:11 -0400 (Fri, 31 Oct 2025) EllapsedTime: 3.1 seconds RetCode: 0 Status: OK