Package: PanomiR Version: 1.14.0 Command: /home/biocbuild/bbs-3.22-bioc/R/bin/R CMD build --keep-empty-dirs --no-resave-data --md5 PanomiR StartedAt: 2025-10-31 19:23:07 -0400 (Fri, 31 Oct 2025) EndedAt: 2025-10-31 19:23:39 -0400 (Fri, 31 Oct 2025) EllapsedTime: 32.0 seconds RetCode: 0 Status: OK PackageFile: PanomiR_1.14.0.tar.gz PackageFileSize: 1.982 MiB