Package: PWMEnrich Version: 4.45.0 Command: /home/biocbuild/bbs-3.22-bioc/R/bin/R CMD build --keep-empty-dirs --no-resave-data --md5 PWMEnrich StartedAt: 2025-10-24 19:34:59 -0400 (Fri, 24 Oct 2025) EndedAt: 2025-10-24 19:36:07 -0400 (Fri, 24 Oct 2025) EllapsedTime: 68.1 seconds RetCode: 0 Status: OK PackageFile: PWMEnrich_4.45.0.tar.gz PackageFileSize: 1.574 MiB