Package: PWMEnrich Version: 4.46.0 Command: /Library/Frameworks/R.framework/Resources/bin/R CMD INSTALL PWMEnrich StartedAt: 2025-11-03 15:22:45 -0500 (Mon, 03 Nov 2025) EndedAt: 2025-11-03 15:23:06 -0500 (Mon, 03 Nov 2025) EllapsedTime: 20.9 seconds RetCode: 0 Status: OK