Package: PWMEnrich Version: 4.46.0 Command: /Library/Frameworks/R.framework/Resources/bin/R CMD build --keep-empty-dirs --no-resave-data PWMEnrich StartedAt: 2025-11-03 18:20:07 -0500 (Mon, 03 Nov 2025) EndedAt: 2025-11-03 18:21:21 -0500 (Mon, 03 Nov 2025) EllapsedTime: 74.2 seconds RetCode: 0 Status: OK PackageFile: PWMEnrich_4.46.0.tar.gz PackageFileSize: 1.57 MiB