Package: PWMEnrich Version: 4.45.0 Command: /Library/Frameworks/R.framework/Resources/bin/R CMD INSTALL PWMEnrich StartedAt: 2025-10-24 15:10:54 -0400 (Fri, 24 Oct 2025) EndedAt: 2025-10-24 15:10:58 -0400 (Fri, 24 Oct 2025) EllapsedTime: 4.7 seconds RetCode: 0 Status: OK