Package: PWMEnrich Version: 4.45.0 Command: /Library/Frameworks/R.framework/Resources/bin/R CMD build --keep-empty-dirs --no-resave-data PWMEnrich StartedAt: 2025-10-24 17:25:38 -0400 (Fri, 24 Oct 2025) EndedAt: 2025-10-24 17:26:08 -0400 (Fri, 24 Oct 2025) EllapsedTime: 29.3 seconds RetCode: 0 Status: OK PackageFile: PWMEnrich_4.45.0.tar.gz PackageFileSize: 1.571 MiB