Package: PSMatch Version: 1.13.2 Command: /home/biocbuild/bbs-3.22-bioc/R/bin/R CMD INSTALL PSMatch StartedAt: 2025-10-24 15:45:48 -0400 (Fri, 24 Oct 2025) EndedAt: 2025-10-24 15:46:19 -0400 (Fri, 24 Oct 2025) EllapsedTime: 30.5 seconds RetCode: 0 Status: OK