Package: PSMatch Version: 1.13.2 Command: /home/biocbuild/bbs-3.22-bioc/R/bin/R CMD build --keep-empty-dirs --no-resave-data --md5 PSMatch StartedAt: 2025-10-24 19:33:47 -0400 (Fri, 24 Oct 2025) EndedAt: 2025-10-24 19:35:34 -0400 (Fri, 24 Oct 2025) EllapsedTime: 107.1 seconds RetCode: 0 Status: OK PackageFile: PSMatch_1.13.2.tar.gz PackageFileSize: 1.742 MiB