Package: PSMatch Version: 1.14.0 Command: /Library/Frameworks/R.framework/Resources/bin/R CMD INSTALL PSMatch StartedAt: 2025-11-10 15:19:30 -0500 (Mon, 10 Nov 2025) EndedAt: 2025-11-10 15:19:43 -0500 (Mon, 10 Nov 2025) EllapsedTime: 12.8 seconds RetCode: 0 Status: OK