Package: PSMatch Version: 1.14.0 Command: /Library/Frameworks/R.framework/Resources/bin/R CMD build --keep-empty-dirs --no-resave-data PSMatch StartedAt: 2025-11-10 17:24:52 -0500 (Mon, 10 Nov 2025) EndedAt: 2025-11-10 17:25:48 -0500 (Mon, 10 Nov 2025) EllapsedTime: 56.6 seconds RetCode: 0 Status: OK PackageFile: PSMatch_1.14.0.tar.gz PackageFileSize: 1.757 MiB