Package: PSMatch Version: 1.14.0 Command: rm -rf PSMatch.buildbin-libdir && mkdir PSMatch.buildbin-libdir && /Users/biocbuild/BBS/utils/build-universal.sh PSMatch_1.14.0.tar.gz /Library/Frameworks/R.framework/Resources/bin/R PSMatch.buildbin-libdir StartedAt: 2025-11-10 23:31:57 -0500 (Mon, 10 Nov 2025) EndedAt: 2025-11-10 23:32:11 -0500 (Mon, 10 Nov 2025) EllapsedTime: 14.3 seconds RetCode: 0 Status: OK PackageFile: PSMatch_1.14.0.tgz PackageFileSize: 2.089 MiB