Package: PROcess Version: 1.85.0 Command: /home/biocbuild/bbs-3.22-bioc/R/bin/R CMD INSTALL PROcess StartedAt: 2025-10-24 15:25:03 -0400 (Fri, 24 Oct 2025) EndedAt: 2025-10-24 15:25:08 -0400 (Fri, 24 Oct 2025) EllapsedTime: 5.2 seconds RetCode: 0 Status: OK