Package: PROcess Version: 1.86.0 Command: /Library/Frameworks/R.framework/Resources/bin/R CMD INSTALL PROcess StartedAt: 2025-11-10 15:10:21 -0500 (Mon, 10 Nov 2025) EndedAt: 2025-11-10 15:10:24 -0500 (Mon, 10 Nov 2025) EllapsedTime: 3.1 seconds RetCode: 0 Status: OK