Package: PROPER Version: 1.41.0 Command: /home/biocbuild/bbs-3.22-bioc/R/bin/R CMD INSTALL PROPER StartedAt: 2025-10-24 15:13:49 -0400 (Fri, 24 Oct 2025) EndedAt: 2025-10-24 15:14:08 -0400 (Fri, 24 Oct 2025) EllapsedTime: 19.4 seconds RetCode: 0 Status: OK