Package: PROPER Version: 1.42.0 Command: rm -rf PROPER.buildbin-libdir && mkdir PROPER.buildbin-libdir && /Users/biocbuild/BBS/utils/build-universal.sh PROPER_1.42.0.tar.gz /Library/Frameworks/R.framework/Resources/bin/R PROPER.buildbin-libdir StartedAt: 2025-11-10 23:31:52 -0500 (Mon, 10 Nov 2025) EndedAt: 2025-11-10 23:31:54 -0500 (Mon, 10 Nov 2025) EllapsedTime: 2.0 seconds RetCode: 0 Status: OK PackageFile: PROPER_1.42.0.tgz PackageFileSize: 1.575 MiB