Package: PRONE Version: 1.3.2 Command: /home/biocbuild/bbs-3.22-bioc/R/bin/R CMD INSTALL PRONE StartedAt: 2025-10-24 16:09:43 -0400 (Fri, 24 Oct 2025) EndedAt: 2025-10-24 16:10:25 -0400 (Fri, 24 Oct 2025) EllapsedTime: 41.9 seconds RetCode: 0 Status: OK