Package: PROMISE Version: 1.61.0 Command: /home/biocbuild/bbs-3.22-bioc/R/bin/R CMD INSTALL PROMISE StartedAt: 2025-10-24 15:40:31 -0400 (Fri, 24 Oct 2025) EndedAt: 2025-10-24 15:40:45 -0400 (Fri, 24 Oct 2025) EllapsedTime: 14.1 seconds RetCode: 0 Status: OK