Package: PROMISE Version: 1.61.0 Command: /Library/Frameworks/R.framework/Resources/bin/R CMD INSTALL PROMISE StartedAt: 2025-10-24 15:12:19 -0400 (Fri, 24 Oct 2025) EndedAt: 2025-10-24 15:12:24 -0400 (Fri, 24 Oct 2025) EllapsedTime: 5.8 seconds RetCode: 0 Status: OK