Package: PROMISE Version: 1.61.0 Command: /Library/Frameworks/R.framework/Resources/bin/R CMD build --keep-empty-dirs --no-resave-data PROMISE StartedAt: 2025-10-24 17:24:39 -0400 (Fri, 24 Oct 2025) EndedAt: 2025-10-24 17:24:50 -0400 (Fri, 24 Oct 2025) EllapsedTime: 11.1 seconds RetCode: 0 Status: OK PackageFile: PROMISE_1.61.0.tar.gz PackageFileSize: 135.3 KiB