Package: PROMISE Version: 1.61.0 Command: rm -rf PROMISE.buildbin-libdir && mkdir PROMISE.buildbin-libdir && /Users/biocbuild/BBS/utils/build-universal.sh PROMISE_1.61.0.tar.gz /Library/Frameworks/R.framework/Resources/bin/R PROMISE.buildbin-libdir StartedAt: 2025-10-24 23:14:44 -0400 (Fri, 24 Oct 2025) EndedAt: 2025-10-24 23:14:51 -0400 (Fri, 24 Oct 2025) EllapsedTime: 7.1 seconds RetCode: 0 Status: OK PackageFile: PROMISE_1.61.0.tgz PackageFileSize: 178.2 KiB