Package: PREDA Version: 1.55.0 Command: /home/biocbuild/bbs-3.22-bioc/R/bin/R CMD INSTALL PREDA StartedAt: 2025-10-27 15:30:38 -0400 (Mon, 27 Oct 2025) EndedAt: 2025-10-27 15:30:58 -0400 (Mon, 27 Oct 2025) EllapsedTime: 20.4 seconds RetCode: 0 Status: OK