Package: PPInfer Version: 1.35.0 Command: /home/biocbuild/bbs-3.22-bioc/R/bin/R CMD INSTALL PPInfer StartedAt: 2025-10-24 15:42:21 -0400 (Fri, 24 Oct 2025) EndedAt: 2025-10-24 15:42:43 -0400 (Fri, 24 Oct 2025) EllapsedTime: 22.6 seconds RetCode: 0 Status: OK