Package: POWSC Version: 1.17.1 Command: /home/biocbuild/bbs-3.22-bioc/R/bin/R CMD INSTALL POWSC StartedAt: 2025-10-24 15:31:09 -0400 (Fri, 24 Oct 2025) EndedAt: 2025-10-24 15:31:38 -0400 (Fri, 24 Oct 2025) EllapsedTime: 28.2 seconds RetCode: 0 Status: OK