Package: POWSC Version: 1.17.1 Command: /home/biocbuild/bbs-3.22-bioc/R/bin/R CMD build --keep-empty-dirs --no-resave-data --md5 POWSC StartedAt: 2025-10-24 19:29:48 -0400 (Fri, 24 Oct 2025) EndedAt: 2025-10-24 19:31:06 -0400 (Fri, 24 Oct 2025) EllapsedTime: 78.1 seconds RetCode: 0 Status: OK PackageFile: POWSC_1.17.1.tar.gz PackageFileSize: 1.137 MiB