Package: POWSC Version: 1.18.0 Command: /Library/Frameworks/R.framework/Resources/bin/R CMD build --keep-empty-dirs --no-resave-data POWSC StartedAt: 2025-11-06 17:22:18 -0500 (Thu, 06 Nov 2025) EndedAt: 2025-11-06 17:22:50 -0500 (Thu, 06 Nov 2025) EllapsedTime: 31.4 seconds RetCode: 0 Status: OK PackageFile: POWSC_1.18.0.tar.gz PackageFileSize: 1.141 MiB