Package: PMScanR Version: 1.0.0 Command: /home/biocbuild/R/R/bin/R CMD INSTALL PMScanR StartedAt: 2025-11-24 21:40:32 -0000 (Mon, 24 Nov 2025) EndedAt: 2025-11-24 21:41:20 -0000 (Mon, 24 Nov 2025) EllapsedTime: 48.5 seconds RetCode: 0 Status: OK