Package: PMScanR Version: 1.0.0 Command: /home/biocbuild/R/R/bin/R CMD build --keep-empty-dirs --no-resave-data PMScanR StartedAt: 2025-11-21 04:50:08 -0000 (Fri, 21 Nov 2025) EndedAt: 2025-11-21 04:51:28 -0000 (Fri, 21 Nov 2025) EllapsedTime: 80.0 seconds RetCode: 0 Status: OK PackageFile: PMScanR_1.0.0.tar.gz PackageFileSize: 2.183 MiB