Package: PMScanR Version: 1.0.0 Command: /home/biocbuild/bbs-3.22-bioc/R/bin/R CMD check --install=check:PMScanR.install-out.txt --library=/home/biocbuild/bbs-3.22-bioc/R/site-library --timings PMScanR_1.0.0.tar.gz StartedAt: 2025-10-31 02:44:58 -0400 (Fri, 31 Oct 2025) EndedAt: 2025-10-31 02:49:42 -0400 (Fri, 31 Oct 2025) EllapsedTime: 283.2 seconds RetCode: 0 Status: OK CheckDir: PMScanR.Rcheck Warnings: 0